BEGIN:VCALENDAR
VERSION:2.0
PRODID:-//hacksw/handcal//NONSGML v1.0//EN
BEGIN:VEVENT
SUMMARY:concours TAE a Bayeux
UID:6e191f3c-9e01-4978-8f6d-607826637d68
DTSTART:20260508T220000Z
DTEND:20260510T220000Z
LOCATION:Localisation   
CATEGORIES:Sportif
STATUS:
URL;VALUE=URI:https://www.archers-alm-evreux.com/evenements/2026/05/09/concours-tae-a-bayeux-2435629
END:VEVENT
END:VCALENDAR
