BEGIN:VCALENDAR
VERSION:2.0
PRODID:-//hacksw/handcal//NONSGML v1.0//EN
BEGIN:VEVENT
SUMMARY:Bouquet provincial a Chiry-Ourscamp
UID:75a4ead5-46f9-4a02-8588-c522ba2e39fc
DTSTART:20260516T220000Z
DTEND:20260517T220000Z
LOCATION:Localisation   
CATEGORIES:Sportif
STATUS:
URL;VALUE=URI:https://www.archers-alm-evreux.com/evenements/2026/05/17/bouquet-provincial-a-chiry-ourscamp-2436556
END:VEVENT
END:VCALENDAR
