BEGIN:VCALENDAR
VERSION:2.0
PRODID:-//hacksw/handcal//NONSGML v1.0//EN
BEGIN:VEVENT
SUMMARY:concours campagne a Meaux
UID:1f654c93-22a1-4ae9-910d-a91601451070
DTSTART:20260606T220000Z
DTEND:20260607T220000Z
LOCATION:Localisation   
CATEGORIES:Sportif
STATUS:
URL;VALUE=URI:https://www.archers-alm-evreux.com/evenements/2026/06/07/concours-campagne-a-meaux-2433574
END:VEVENT
END:VCALENDAR
