BEGIN:VCALENDAR
VERSION:2.0
PRODID:-//hacksw/handcal//NONSGML v1.0//EN
BEGIN:VEVENT
SUMMARY:concours TAE a Banvou
UID:df46c3f2-2cfc-43f7-b21e-188c64e4328c
DTSTART:20260626T220000Z
DTEND:20260627T220000Z
LOCATION:Localisation   
CATEGORIES:Sportif
STATUS:
URL;VALUE=URI:https://www.archers-alm-evreux.com/evenements/2026/06/27/concours-tae-a-banvou-2440513
END:VEVENT
END:VCALENDAR
