BEGIN:VCALENDAR
VERSION:2.0
PRODID:-//hacksw/handcal//NONSGML v1.0//EN
BEGIN:VEVENT
SUMMARY:concours TAE a Banvou
UID:312166d8-e806-4f01-95ae-cb609c534a8f
DTSTART:20260724T220000Z
DTEND:20260725T220000Z
LOCATION:Localisation   
CATEGORIES:Sportif
STATUS:
URL;VALUE=URI:https://www.archers-alm-evreux.com/evenements/2026/07/25/concours-tae-a-banvou-2440516
END:VEVENT
END:VCALENDAR
