BEGIN:VCALENDAR
VERSION:2.0
PRODID:-//hacksw/handcal//NONSGML v1.0//EN
BEGIN:VEVENT
SUMMARY:concours TAE a Banvou
UID:6639849f-a33b-4329-9419-fb730f1e7506
DTSTART:20260905T220000Z
DTEND:20260906T220000Z
LOCATION:Localisation   
CATEGORIES:Sportif
STATUS:
URL;VALUE=URI:https://www.archers-alm-evreux.com/evenements/2026/09/06/concours-tae-a-banvou-2440519
END:VEVENT
END:VCALENDAR
